BEGIN:VCALENDAR
VERSION:2.0
PRODID:-//Idaho Department of Environmental Quality - ECPv6.15.11//NONSGML v1.0//EN
CALSCALE:GREGORIAN
METHOD:PUBLISH
X-WR-CALNAME:Idaho Department of Environmental Quality
X-ORIGINAL-URL:https://www.deq.idaho.gov
X-WR-CALDESC:Events for Idaho Department of Environmental Quality
REFRESH-INTERVAL;VALUE=DURATION:PT1H
X-Robots-Tag:noindex
X-PUBLISHED-TTL:PT1H
BEGIN:VTIMEZONE
TZID:America/Boise
BEGIN:DAYLIGHT
TZOFFSETFROM:-0700
TZOFFSETTO:-0600
TZNAME:MDT
DTSTART:20260308T090000
END:DAYLIGHT
BEGIN:STANDARD
TZOFFSETFROM:-0600
TZOFFSETTO:-0700
TZNAME:MST
DTSTART:20261101T080000
END:STANDARD
BEGIN:DAYLIGHT
TZOFFSETFROM:-0700
TZOFFSETTO:-0600
TZNAME:MDT
DTSTART:20270314T090000
END:DAYLIGHT
BEGIN:STANDARD
TZOFFSETFROM:-0600
TZOFFSETTO:-0700
TZNAME:MST
DTSTART:20271107T080000
END:STANDARD
BEGIN:DAYLIGHT
TZOFFSETFROM:-0700
TZOFFSETTO:-0600
TZNAME:MDT
DTSTART:20280312T090000
END:DAYLIGHT
BEGIN:STANDARD
TZOFFSETFROM:-0600
TZOFFSETTO:-0700
TZNAME:MST
DTSTART:20281105T080000
END:STANDARD
END:VTIMEZONE
BEGIN:VEVENT
DTSTART;TZID=America/Boise:20270224T083000
DTEND;TZID=America/Boise:20270225T170000
DTSTAMP:20260425T053118
CREATED:20251015T193210Z
LAST-MODIFIED:20260331T184526Z
UID:10000424-1803457800-1803574800@www.deq.idaho.gov
SUMMARY:Idaho Water Quality Workshop
DESCRIPTION:
URL:https://www.deq.idaho.gov/event/water-quality-workshop/
LOCATION:Boise State University\, 1700 W University Drive\, Boise\, Idaho
ORGANIZER;CN="Brenda Valverde%2C Data Entry Analyst":MAILTO:brenda.valverde@deq.idaho.gov
END:VEVENT
END:VCALENDAR